BEGIN:VCALENDAR
VERSION:2.0
PRODID:-//https://santquirzesafaja.cat///NONSGML kigkonsult.se iCalcreator 2.10.15//
METHOD:PUBLISH
BEGIN:VEVENT
UID:20260421T095427UTC-9347M2CCUk@https://santquirzesafaja.cat/
DTSTAMP:20260421T095427Z
DESCRIPTION: https://santquirzesafaja.cat/ajuntament/agenda-alcaldia/activi
 tat/201-jornada-municipal-cicle-de-l-aigua
DTSTART:20240122T080000Z
DTEND:20240122T090000Z
LOCATION:Ajuntament Sant Quirze Safaja (08189 Sant Quirze Safaja\, Barcelon
 a\, Espanya)
SUMMARY:JORNADA MUNICIPAL CICLE DE L'AIGUA
URL:https://santquirzesafaja.cat/ajuntament/agenda-alcaldia/activitat/201-j
 ornada-municipal-cicle-de-l-aigua
END:VEVENT
BEGIN:VEVENT
UID:20260421T095427UTC-9351L7ko5k@https://santquirzesafaja.cat/
DTSTAMP:20260421T095427Z
DESCRIPTION: https://santquirzesafaja.cat/ajuntament/agenda-alcaldia/activi
 tat/202-presentació-catàleg-diba-àrea-d-urbanisme
DTSTART:20240124T083000Z
DTEND:20240124T120000Z
LOCATION:Ajuntament Sant Quirze Safaja (08189 Sant Quirze Safaja\, Barcelon
 a\, Espanya)
SUMMARY:PRESENTACIÓ CATÀLEG DIBA - ÀREA D'URBANISME
URL:https://santquirzesafaja.cat/ajuntament/agenda-alcaldia/activitat/202-p
 resentació-catàleg-diba-àrea-d-urbanisme
END:VEVENT
BEGIN:VEVENT
UID:20260421T095427UTC-9353jL2aUR@https://santquirzesafaja.cat/
DTSTAMP:20260421T095427Z
DESCRIPTION: https://santquirzesafaja.cat/ajuntament/agenda-alcaldia/activi
 tat/203-reunio-seguiment-obres-c-59
DTSTART:20240125T170000Z
DTEND:20240125T180000Z
LOCATION:Ajuntament Sant Quirze Safaja (08189 Sant Quirze Safaja\, Barcelon
 a\, Espanya)
SUMMARY:REUNIO SEGUIMENT OBRES C-59
URL:https://santquirzesafaja.cat/ajuntament/agenda-alcaldia/activitat/203-r
 eunio-seguiment-obres-c-59
END:VEVENT
BEGIN:VEVENT
UID:20260421T095427UTC-9354ZE3P0o@https://santquirzesafaja.cat/
DTSTAMP:20260421T095427Z
DESCRIPTION: https://santquirzesafaja.cat/ajuntament/agenda-alcaldia/activi
 tat/204-visita-obres-casa-del-poble
DTSTART:20240126T113000Z
DTEND:20240126T130000Z
LOCATION:Casa del Poble - Sant Quirze Safaja (Carrer Major\, 8\, 08189 Sant
  Quirze Safaja\, Barcelona\, Espanya)
SUMMARY:VISITA OBRES CASA DEL POBLE
URL:https://santquirzesafaja.cat/ajuntament/agenda-alcaldia/activitat/204-v
 isita-obres-casa-del-poble
END:VEVENT
BEGIN:VEVENT
UID:20260421T095427UTC-9356ba2Nhc@https://santquirzesafaja.cat/
DTSTAMP:20260421T095427Z
DESCRIPTION: https://santquirzesafaja.cat/ajuntament/agenda-alcaldia/activi
 tat/205-plans-de-seguretat-local-diba
DTSTART:20240129T080000Z
DTEND:20240129T100000Z
LOCATION:Ajuntament Sant Quirze Safaja (08189 Sant Quirze Safaja\, Barcelon
 a\, Espanya)
SUMMARY:PLANS DE SEGURETAT LOCAL - DIBA
URL:https://santquirzesafaja.cat/ajuntament/agenda-alcaldia/activitat/205-p
 lans-de-seguretat-local-diba
END:VEVENT
BEGIN:VEVENT
UID:20260421T095427UTC-9358hWmNSg@https://santquirzesafaja.cat/
DTSTAMP:20260421T095427Z
DESCRIPTION: https://santquirzesafaja.cat/ajuntament/agenda-alcaldia/activi
 tat/206-reunio-colònies-rosa-dels-vents
DTSTART:20240129T100000Z
DTEND:20240129T110000Z
LOCATION:Ajuntament Sant Quirze Safaja (08189 Sant Quirze Safaja\, Barcelon
 a\, Espanya)
SUMMARY:REUNIO COLÒNIES ROSA DELS VENTS
URL:https://santquirzesafaja.cat/ajuntament/agenda-alcaldia/activitat/206-r
 eunio-colònies-rosa-dels-vents
END:VEVENT
BEGIN:VEVENT
UID:20260421T095427UTC-93606NsjwI@https://santquirzesafaja.cat/
DTSTAMP:20260421T095427Z
DESCRIPTION: https://santquirzesafaja.cat/ajuntament/agenda-alcaldia/activi
 tat/207-reunio-de-coordinació-territorial-pacificació
DTSTART:20240201T160000Z
DTEND:20240201T180000Z
LOCATION:Ajuntament Sant Quirze Safaja (08189 Sant Quirze Safaja\, Barcelon
 a\, Espanya)
SUMMARY:REUNIO DE COORDINACIÓ TERRITORIAL - PACIFICACIÓ
URL:https://santquirzesafaja.cat/ajuntament/agenda-alcaldia/activitat/207-r
 eunio-de-coordinació-territorial-pacificació
END:VEVENT
BEGIN:VEVENT
UID:20260421T095427UTC-9362nPZ1s8@https://santquirzesafaja.cat/
DTSTAMP:20260421T095427Z
DESCRIPTION: https://santquirzesafaja.cat/ajuntament/agenda-alcaldia/activi
 tat/208-propietaris-solà-del-boix-iii
DTSTART:20240205T100000Z
DTEND:20240205T113000Z
LOCATION:Ajuntament Sant Quirze Safaja (08189 Sant Quirze Safaja\, Barcelon
 a\, Espanya)
SUMMARY:PROPIETARIS SOLÀ DEL BOIX III
URL:https://santquirzesafaja.cat/ajuntament/agenda-alcaldia/activitat/208-p
 ropietaris-solà-del-boix-iii
END:VEVENT
BEGIN:VEVENT
UID:20260421T095427UTC-9363mUodTM@https://santquirzesafaja.cat/
DTSTAMP:20260421T095427Z
DESCRIPTION: https://santquirzesafaja.cat/ajuntament/agenda-alcaldia/activi
 tat/209-dacc-serveis-territorials-catalunya-central
DTSTART:20240209T080000Z
DTEND:20240209T090000Z
LOCATION:Ajuntament Sant Quirze Safaja (08189 Sant Quirze Safaja\, Barcelon
 a\, Espanya)
SUMMARY:DACC - SERVEIS TERRITORIALS CATALUNYA CENTRAL
URL:https://santquirzesafaja.cat/ajuntament/agenda-alcaldia/activitat/209-d
 acc-serveis-territorials-catalunya-central
END:VEVENT
BEGIN:VEVENT
UID:20260421T095427UTC-9365xm6urV@https://santquirzesafaja.cat/
DTSTAMP:20260421T095427Z
DESCRIPTION: https://santquirzesafaja.cat/ajuntament/agenda-alcaldia/activi
 tat/210-reunió-estatuts-rurals-departament-de-presidència
DTSTART:20240209T100000Z
DTEND:20240209T120000Z
LOCATION:casserres (08693 Casserres\, Barcelona\, Espanya)
SUMMARY:REUNIÓ ESTATUTS RURALS - DEPARTAMENT DE PRESIDÈNCIA
URL:https://santquirzesafaja.cat/ajuntament/agenda-alcaldia/activitat/210-r
 eunió-estatuts-rurals-departament-de-presidència
END:VEVENT
END:VCALENDAR
