BEGIN:VCALENDAR
VERSION:2.0
PRODID:-//https://santquirzesafaja.cat///NONSGML kigkonsult.se iCalcreator 2.10.15//
METHOD:PUBLISH
BEGIN:VEVENT
UID:20260421T113136UTC-6672mLV1r9@https://santquirzesafaja.cat/
DTSTAMP:20260421T113136Z
DESCRIPTION: https://santquirzesafaja.cat/ajuntament/agenda-alcaldia/activi
 tat/209-dacc-serveis-territorials-catalunya-central
DTSTART:20240209T080000Z
DTEND:20240209T090000Z
LOCATION:Ajuntament Sant Quirze Safaja (08189 Sant Quirze Safaja\, Barcelon
 a\, Espanya)
SUMMARY:DACC - SERVEIS TERRITORIALS CATALUNYA CENTRAL
URL:https://santquirzesafaja.cat/ajuntament/agenda-alcaldia/activitat/209-d
 acc-serveis-territorials-catalunya-central
END:VEVENT
END:VCALENDAR
