BEGIN:VCALENDAR
VERSION:2.0
PRODID:-//https://santquirzesafaja.cat///NONSGML kigkonsult.se iCalcreator 2.10.15//
METHOD:PUBLISH
BEGIN:VEVENT
UID:20260421T112759UTC-4762cBiOOF@https://santquirzesafaja.cat/
DTSTAMP:20260421T112759Z
DESCRIPTION: https://santquirzesafaja.cat/ajuntament/agenda-alcaldia/activi
 tat/206-reunio-colònies-rosa-dels-vents
DTSTART:20240129T100000Z
DTEND:20240129T110000Z
LOCATION:Ajuntament Sant Quirze Safaja (08189 Sant Quirze Safaja\, Barcelon
 a\, Espanya)
SUMMARY:REUNIO COLÒNIES ROSA DELS VENTS
URL:https://santquirzesafaja.cat/ajuntament/agenda-alcaldia/activitat/206-r
 eunio-colònies-rosa-dels-vents
END:VEVENT
END:VCALENDAR
