BEGIN:VCALENDAR
VERSION:2.0
PRODID:-//https://santquirzesafaja.cat///NONSGML kigkonsult.se iCalcreator 2.10.15//
METHOD:PUBLISH
BEGIN:VEVENT
UID:20260421T113136UTC-6680LWXX4v@https://santquirzesafaja.cat/
DTSTAMP:20260421T113136Z
DESCRIPTION: https://santquirzesafaja.cat/ajuntament/agenda-alcaldia/activi
 tat/200-crae-mare-de-deu-del-roser
DTSTART:20240119T090000Z
DTEND:20240119T100000Z
LOCATION:Ajuntament Sant Quirze Safaja (08189 Sant Quirze Safaja\, Barcelon
 a\, Espanya)
SUMMARY:CRAE MARE DE DEU DEL ROSER
URL:https://santquirzesafaja.cat/ajuntament/agenda-alcaldia/activitat/200-c
 rae-mare-de-deu-del-roser
END:VEVENT
END:VCALENDAR
