BEGIN:VCALENDAR
VERSION:2.0
PRODID:-//https://santquirzesafaja.cat///NONSGML kigkonsult.se iCalcreator 2.10.15//
METHOD:PUBLISH
BEGIN:VEVENT
UID:20260421T112847UTC-1192bJUZU6@https://santquirzesafaja.cat/
DTSTAMP:20260421T112847Z
DESCRIPTION: https://santquirzesafaja.cat/ajuntament/agenda-alcaldia/activi
 tat/199-presentació-estudi-hidrogeològic-sant-quirze-de-safaja
DTSTART:20240112T090000Z
DTEND:20240112T100000Z
LOCATION:Ajuntament Sant Quirze Safaja (08189 Sant Quirze Safaja\, Barcelon
 a\, Espanya)
SUMMARY:PRESENTACIÓ ESTUDI HIDROGEOLÒGIC SANT QUIRZE DE SAFAJA
URL:https://santquirzesafaja.cat/ajuntament/agenda-alcaldia/activitat/199-p
 resentació-estudi-hidrogeològic-sant-quirze-de-safaja
END:VEVENT
END:VCALENDAR
