BEGIN:VCALENDAR
VERSION:2.0
PRODID:-//https://santquirzesafaja.cat///NONSGML kigkonsult.se iCalcreator 2.10.15//
METHOD:PUBLISH
BEGIN:VEVENT
UID:20260421T114711UTC-6562NdKmC3@https://santquirzesafaja.cat/
DTSTAMP:20260421T114711Z
DESCRIPTION: https://santquirzesafaja.cat/ajuntament/agenda-alcaldia/activi
 tat/180-consell-de-coordinació-territorial-de-la-catalunya-central-amb-el-
 món-local
DTSTART:20231122T150000Z
DTEND:20231122T160000Z
LOCATION:Ajuntament Sant Quirze Safaja (08189 Sant Quirze Safaja\, Barcelon
 a\, Espanya)
SUMMARY:Consell de Coordinació Territorial de la Catalunya Central amb el M
 ón Local
URL:https://santquirzesafaja.cat/ajuntament/agenda-alcaldia/activitat/180-c
 onsell-de-coordinació-territorial-de-la-catalunya-central-amb-el-món-local
END:VEVENT
END:VCALENDAR
