BEGIN:VCALENDAR
VERSION:2.0
PRODID:-//https://santquirzesafaja.cat///NONSGML kigkonsult.se iCalcreator 2.10.15//
METHOD:PUBLISH
BEGIN:VEVENT
UID:20260421T131800UTC-3466Fn4XBg@https://santquirzesafaja.cat/
DTSTAMP:20260421T131800Z
DESCRIPTION: https://santquirzesafaja.cat/ajuntament/agenda-alcaldia/activi
 tat/179-reunió-casa-de-colònies-rosa-dels-vents
DTSTART:20231124T120000Z
DTEND:20231124T133000Z
LOCATION:Ajuntament Sant Quirze Safaja (08189 Sant Quirze Safaja\, Barcelon
 a\, Espanya)
SUMMARY:REUNIÓ CASA DE COLÒNIES ROSA DELS VENTS
URL:https://santquirzesafaja.cat/ajuntament/agenda-alcaldia/activitat/179-r
 eunió-casa-de-colònies-rosa-dels-vents
END:VEVENT
END:VCALENDAR
