BEGIN:VCALENDAR
VERSION:2.0
PRODID:-//https://santquirzesafaja.cat///NONSGML kigkonsult.se iCalcreator 2.10.15//
METHOD:PUBLISH
BEGIN:VEVENT
UID:20260421T112656UTC-6036a53uvF@https://santquirzesafaja.cat/
DTSTAMP:20260421T112656Z
DESCRIPTION: https://santquirzesafaja.cat/ajuntament/agenda-alcaldia/activi
 tat/178-reunió-comunitat-de-propietaris-c-les-clotes-31
DTSTART:20231201T110000Z
DTEND:20231201T114500Z
LOCATION:Ajuntament Sant Quirze Safaja (08189 Sant Quirze Safaja\, Barcelon
 a\, Espanya)
SUMMARY:REUNIÓ COMUNITAT DE PROPIETARIS C/ LES CLOTES 31
URL:https://santquirzesafaja.cat/ajuntament/agenda-alcaldia/activitat/178-r
 eunió-comunitat-de-propietaris-c-les-clotes-31
END:VEVENT
END:VCALENDAR
