BEGIN:VCALENDAR
VERSION:2.0
PRODID:-//https://santquirzesafaja.cat///NONSGML kigkonsult.se iCalcreator 2.10.15//
METHOD:PUBLISH
BEGIN:VEVENT
UID:20260421T114555UTC-7624XnzeKR@https://santquirzesafaja.cat/
DTSTAMP:20260421T114555Z
DESCRIPTION: https://santquirzesafaja.cat/ajuntament/agenda-alcaldia/activi
 tat/175-reunió-equip-directiu-ceip-sant-quirze-safaja
DTSTART:20231204T123000Z
DTEND:20231204T140000Z
LOCATION:Ajuntament Sant Quirze Safaja (08189 Sant Quirze Safaja\, Barcelon
 a\, Espanya)
SUMMARY:REUNIÓ EQUIP DIRECTIU CEIP SANT QUIRZE SAFAJA
URL:https://santquirzesafaja.cat/ajuntament/agenda-alcaldia/activitat/175-r
 eunió-equip-directiu-ceip-sant-quirze-safaja
END:VEVENT
END:VCALENDAR
