BEGIN:VCALENDAR
VERSION:2.0
PRODID:-//https://santquirzesafaja.cat///NONSGML kigkonsult.se iCalcreator 2.10.15//
METHOD:PUBLISH
BEGIN:VEVENT
UID:20260421T112821UTC-7162zuBR25@https://santquirzesafaja.cat/
DTSTAMP:20260421T112821Z
DESCRIPTION: https://santquirzesafaja.cat/ajuntament/agenda-alcaldia/activi
 tat/174-reunió-amb-els-alcaldes-de-sant-feliu-de-codines-i-gallifa
DTSTART:20231218T090000Z
DTEND:20231218T100000Z
LOCATION:Ajuntament Sant Quirze Safaja (08189 Sant Quirze Safaja\, Barcelon
 a\, Espanya)
SUMMARY:REUNIÓ AMB ELS ALCALDES DE SANT FELIU DE CODINES I GALLIFA
URL:https://santquirzesafaja.cat/ajuntament/agenda-alcaldia/activitat/174-r
 eunió-amb-els-alcaldes-de-sant-feliu-de-codines-i-gallifa
END:VEVENT
END:VCALENDAR
