BEGIN:VCALENDAR
VERSION:2.0
PRODID:-//https://santquirzesafaja.cat///NONSGML kigkonsult.se iCalcreator 2.10.15//
METHOD:PUBLISH
BEGIN:VEVENT
UID:20260421T113506UTC-7700vEKE6U@https://santquirzesafaja.cat/
DTSTAMP:20260421T113506Z
DESCRIPTION: https://santquirzesafaja.cat/ajuntament/agenda-alcaldia/activi
 tat/172-reunió-seguiment-concessió-amb-l-empresa-agbar-sa
DTSTART:20231222T123000Z
DTEND:20231222T140000Z
LOCATION:Ajuntament Sant Quirze Safaja (08189 Sant Quirze Safaja\, Barcelon
 a\, Espanya)
SUMMARY:REUNIÓ SEGUIMENT CONCESSIÓ AMB L'EMPRESA AGBAR SA
URL:https://santquirzesafaja.cat/ajuntament/agenda-alcaldia/activitat/172-r
 eunió-seguiment-concessió-amb-l-empresa-agbar-sa
END:VEVENT
END:VCALENDAR
