BEGIN:VCALENDAR
VERSION:2.0
PRODID:-//https://santquirzesafaja.cat///NONSGML kigkonsult.se iCalcreator 2.10.15//
METHOD:PUBLISH
BEGIN:VEVENT
UID:20260421T112847UTC-1826AazizS@https://santquirzesafaja.cat/
DTSTAMP:20260421T112847Z
DESCRIPTION: https://santquirzesafaja.cat/ajuntament/agenda-alcaldia/activi
 tat/171-reunió-als-sstt-d-urbanisme-de-la-catalunya-central
DTSTART:20240109T083000Z
DTEND:20240109T103000Z
LOCATION:Manresa (C. Àngel Guimerà\, 14\, 08243 Manresa\, Barcelona\, Espan
 ya)
SUMMARY:REUNIÓ ALS SSTT  D'URBANISME DE LA CATALUNYA CENTRAL 
URL:https://santquirzesafaja.cat/ajuntament/agenda-alcaldia/activitat/171-r
 eunió-als-sstt-d-urbanisme-de-la-catalunya-central
END:VEVENT
END:VCALENDAR
