BEGIN:VCALENDAR
VERSION:2.0
PRODID:-//https://santquirzesafaja.cat///NONSGML kigkonsult.se iCalcreator 2.10.15//
METHOD:PUBLISH
BEGIN:VEVENT
UID:20260421T133650UTC-7133x1uKXj@https://santquirzesafaja.cat/
DTSTAMP:20260421T133650Z
DESCRIPTION: https://santquirzesafaja.cat/actualitat/agenda/activitat/66-ta
 ula-d-experts-màrius-torres
DTSTART:20171021T080000Z
DTEND:20171021T103000Z
LOCATION:Puigdolena\, Sant Quirze Safaja (Barcelona) (Sant Quirze Safaja\, 
 Barcelona\, Espanya)
SUMMARY:Taula d'experts Màrius Torres 
URL:https://santquirzesafaja.cat/actualitat/agenda/activitat/66-taula-d-exp
 erts-màrius-torres
END:VEVENT
END:VCALENDAR
