BEGIN:VCALENDAR
VERSION:2.0
PRODID:-//https://santquirzesafaja.cat///NONSGML kigkonsult.se iCalcreator 2.10.15//
METHOD:PUBLISH
BEGIN:VEVENT
UID:20260421T133737UTC-6289v7ueU9@https://santquirzesafaja.cat/
DTSTAMP:20260421T133737Z
DESCRIPTION: https://santquirzesafaja.cat/actualitat/agenda/activitat/61-jo
 rnada-agroecològica
DTSTART:20170314T150000Z
DTEND:20170314T180000Z
LOCATION:Centre Civic Parc de l'Aigua\, Sant Quirze Safaja (Carrer del Pass
 ant de Caldes\, 10\, 08189 Sant Quirze Safaja\, Barcelona\, España)
SUMMARY:Jornada Agroecològica
URL:https://santquirzesafaja.cat/actualitat/agenda/activitat/61-jornada-agr
 oecològica
END:VEVENT
END:VCALENDAR
