BEGIN:VCALENDAR
VERSION:2.0
PRODID:-//https://santquirzesafaja.cat///NONSGML kigkonsult.se iCalcreator 2.10.15//
METHOD:PUBLISH
BEGIN:VEVENT
UID:20260421T140353UTC-5564lI8GJV@https://santquirzesafaja.cat/
DTSTAMP:20260421T140353Z
DESCRIPTION: https://santquirzesafaja.cat/actualitat/agenda/activitat/56-la
 -vellesa-forma-part-de-la-vida
DTSTART:20170426T140000Z
DTEND:20170426T160000Z
LOCATION:Casa del poble\, Sant Quirze Safaja (Carrer Major\, 8\, 08189 Sant
  Quirze Safaja\, Barcelona\, España)
SUMMARY:La vellesa forma part de la vida
URL:https://santquirzesafaja.cat/actualitat/agenda/activitat/56-la-vellesa-
 forma-part-de-la-vida
END:VEVENT
END:VCALENDAR
