BEGIN:VCALENDAR
VERSION:2.0
PRODID:-//https://santquirzesafaja.cat///NONSGML kigkonsult.se iCalcreator 2.10.15//
METHOD:PUBLISH
BEGIN:VEVENT
UID:20260421T114358UTC-89734sJrUa@https://santquirzesafaja.cat/
DTSTAMP:20260421T114358Z
DESCRIPTION:Copa d'Espanya de TT 2026. Primera prova\, 18 i 19 d'abril en S
 ant Quirze Safaja.\nCopa d'Espanya TT a Sant Quirze Safaja\, organitzada p
 el Moto Club Tres Turons.\n9:00 h Sortida de la passejada de motos clàssiq
 ues T.T. Exposició al Parc de l’Aigua.(13:00 h) Si els vols veure en acció
  vine al circuit tancat i cronometrat de Planaserra. https://santquirzesaf
 aja.cat/actualitat/agenda/activitat/233-tt-classic-a-sant-quirze-safaja
DTSTART:20260418T070000Z
DTEND:20260419T140000Z
LOCATION:Centre Civic Parc de l'Aigua\, Sant Quirze Safaja (Carrer del Pass
 ant de Caldes\, 10\, 08189 Sant Quirze Safaja\, Barcelona\, España)
SUMMARY:TT classic a Sant Quirze Safaja
URL:https://santquirzesafaja.cat/actualitat/agenda/activitat/233-tt-classic
 -a-sant-quirze-safaja
END:VEVENT
END:VCALENDAR
