BEGIN:VCALENDAR
VERSION:2.0
PRODID:-//https://santquirzesafaja.cat///NONSGML kigkonsult.se iCalcreator 2.10.15//
METHOD:PUBLISH
BEGIN:VEVENT
UID:20260421T114415UTC-6162kEvXWJ@https://santquirzesafaja.cat/
DTSTAMP:20260421T114415Z
DESCRIPTION:Aquest any la Fira té un caire especial\, comptem amb un cap de
  setmana de motos clàssiques T.T. Us convidem a visitar la casa del poble 
 i a una botifarrada popular el dia de la Fira. Apunta’t a l’Ajuntament per
  reservar el teu entrepà. \n \nPROGRAMA \n9:00 h Sortida de la passejada d
 e motos clàssiques T.T. Exposició al Parc de l’Aigua.(13:00 h) Si els vols
  veure en acció vine al circuit tancat i cronometrat de Planaserra.\n10:00
  h Parades de la Fira\n11:00 h a 15:00 h Servei de bar\n Tens més de 65 An
 ys? vine a recollir la teva 🌹. \n PARC DE L’AIGUA \n10:00 h Coneguem Gaudí
  a través del trencadís. Vine a aquest Tastet d’art i taller per endinsar-
 te en el món de Gaudí. Places limitades (Reserva prèvia a l’Ajuntament Tel
 . 938 660 368)\n10:00 h - 13:00 h Trobada de sketchers del Moianès. Sketch
 tcrawl amb itinerari. Activitat gratuïta. Inscripcions a moianesdibuixa@gm
 ail.com 650 781 809\n11:00 h a 12:00 h Entrega tiquets per botifarrada.\n1
 1:00 h Conte de la Veta i el drac (Activitat infantil. 3 passes) \nVine a 
 conèixer la Veta un robot  de 65 cm amb el que podràs interactuar i la sev
 a història amb Sant Jordi. \n12:00 h Tenim nova geganta a SQS. Vine a conè
 ixer-la i apunta’t a la colla gegantera.(Activitat infantil) a càrrec de l
 ’Escola de SQS.\n12:00 h Música en directe amb DELTOKIA\n12:30 h Entrega d
 e premis concurs de dibuix del moianes\n13:30 h Entrega de premis del I T.
  T. Clàssic de SQS\n13:30 h Botifarrada popular\n16:00 h Tancament parades
 \n CASA DEL POBLE (C/ Major) \n11:00 h a 13:00 h Portes obertes casa del p
 oble https://santquirzesafaja.cat/actualitat/agenda/activitat/230-3a-fira-
 de-sant-jordi
DTSTART:20260419T070000Z
DTEND:20260419T140000Z
LOCATION:Sant Quirze Safaja (Sant Quirze Safaja\, Barcelona\, Espanya)
SUMMARY:3a Fira de Sant Jordi
URL:https://santquirzesafaja.cat/actualitat/agenda/activitat/230-3a-fira-de
 -sant-jordi
END:VEVENT
END:VCALENDAR
