BEGIN:VCALENDAR
VERSION:2.0
PRODID:-//https://santquirzesafaja.cat///NONSGML kigkonsult.se iCalcreator 2.10.15//
METHOD:PUBLISH
BEGIN:VEVENT
UID:20260421T114343UTC-6085wJkMEC@https://santquirzesafaja.cat/
DTSTAMP:20260421T114343Z
DESCRIPTION:Dissabte 11 d'abril\, els nou equips participants en la Lliga T
 ennis Taula Intercomarcal vindran al nostre municipi a disputar el play-of
 f de la seva competició\, en una jornada que defineix les posicions finals
  de la seva competició. Amb equips d'Arbúcies\, Roda de Ter\, Sant Hilari 
 Sacalm\, Sant Quirze de Besora\, Sant Quirze Safaja\, Tona i Torelló. Ober
 t al públic. https://santquirzesafaja.cat/actualitat/agenda/activitat/229-
 jornada-final-lliga-tti-2025-2026
DTSTART:20260411T130000Z
DTEND:20260411T194200Z
LOCATION:Centre Cívic Parc de l'Aigua (Parc De L'Aigua\, Carrer del Passant
  de Caldes\, 10\, 08189 Sant Quirze Safaja\, Barcelona\, Espanya)
SUMMARY:JORNADA FINAL LLIGA TTI 2025-2026
URL:https://santquirzesafaja.cat/actualitat/agenda/activitat/229-jornada-fi
 nal-lliga-tti-2025-2026
END:VEVENT
END:VCALENDAR
