BEGIN:VCALENDAR
VERSION:2.0
PRODID:-//https://santquirzesafaja.cat///NONSGML kigkonsult.se iCalcreator 2.10.15//
METHOD:PUBLISH
BEGIN:VEVENT
UID:20260421T115844UTC-0753lVzmX6@https://santquirzesafaja.cat/
DTSTAMP:20260421T115844Z
DESCRIPTION: https://santquirzesafaja.cat/actualitat/agenda/activitat/228-t
 aller-de-boles-de-nadal-de-llana-enfeltrada-amb-agulla
DTSTART:20251206T090000Z
DTEND:20251206T180000Z
LOCATION:Centre Cívic Parc de l'Aigua (Parc De L'Aigua\, Carrer del Passant
  de Caldes\, 10\, 08189 Sant Quirze Safaja\, Barcelona\, Espanya)
SUMMARY:Taller de Boles de NAdal de llana enfeltrada amb agulla
URL:https://santquirzesafaja.cat/actualitat/agenda/activitat/228-taller-de-
 boles-de-nadal-de-llana-enfeltrada-amb-agulla
END:VEVENT
END:VCALENDAR
