BEGIN:VCALENDAR
VERSION:2.0
PRODID:-//https://santquirzesafaja.cat///NONSGML kigkonsult.se iCalcreator 2.10.15//
METHOD:PUBLISH
BEGIN:VEVENT
UID:20260421T115617UTC-62915Kpofv@https://santquirzesafaja.cat/
DTSTAMP:20260421T115617Z
DESCRIPTION: https://santquirzesafaja.cat/actualitat/agenda/activitat/227-t
 aller-de-corones-d-advent
DTSTART:20251130T091000Z
DTEND:20251130T180000Z
LOCATION:Centre Cívic Parc de l'Aigua (Parc De L'Aigua\, Carrer del Passant
  de Caldes\, 10\, 08189 Sant Quirze Safaja\, Barcelona\, Espanya)
SUMMARY:Taller de Corones d'Advent
URL:https://santquirzesafaja.cat/actualitat/agenda/activitat/227-taller-de-
 corones-d-advent
END:VEVENT
END:VCALENDAR
