BEGIN:VCALENDAR
VERSION:2.0
PRODID:-//https://santquirzesafaja.cat///NONSGML kigkonsult.se iCalcreator 2.10.15//
METHOD:PUBLISH
BEGIN:VEVENT
UID:20260421T115632UTC-9584s4uAdR@https://santquirzesafaja.cat/
DTSTAMP:20260421T115632Z
DESCRIPTION: https://santquirzesafaja.cat/actualitat/agenda/activitat/226-p
 edals-de-la-marató-2025
DTSTART:20251214T070000Z
DTEND:20251214T140000Z
LOCATION:Sant Quirze Safaja (Sant Quirze Safaja\, Barcelona\, Espanya)
SUMMARY:Pedals de la Marató 2025
URL:https://santquirzesafaja.cat/actualitat/agenda/activitat/226-pedals-de-
 la-marató-2025
END:VEVENT
END:VCALENDAR
