BEGIN:VCALENDAR
VERSION:2.0
PRODID:-//https://santquirzesafaja.cat///NONSGML kigkonsult.se iCalcreator 2.10.15//
METHOD:PUBLISH
BEGIN:VEVENT
UID:20260421T120041UTC-7349ElVZeu@https://santquirzesafaja.cat/
DTSTAMP:20260421T120041Z
DESCRIPTION:Dissabte 15 de novembre.\n10H-11H Taitxí/txikung11h-12h Kungfu/
 Wushu\nActivitat oberta a tothom (prèvia inscripció al 674 456 713 https:/
 /santquirzesafaja.cat/actualitat/agenda/activitat/225-ii-trobada-per-la-di
 fussió-de-les-arts-marcials-xineses-tradicionals
DTSTART:20251115T090000Z
DTEND:20251115T110000Z
LOCATION:Centre Cívic Parc de l'Aigua (Parc De L'Aigua\, Carrer del Passant
  de Caldes\, 10\, 08189 Sant Quirze Safaja\, Barcelona\, Espanya)
SUMMARY:II trobada per la difussió de les arts marcials xineses tradicional
 s.
URL:https://santquirzesafaja.cat/actualitat/agenda/activitat/225-ii-trobada
 -per-la-difussió-de-les-arts-marcials-xineses-tradicionals
END:VEVENT
END:VCALENDAR
