BEGIN:VCALENDAR
VERSION:2.0
PRODID:-//https://santquirzesafaja.cat///NONSGML kigkonsult.se iCalcreator 2.10.15//
METHOD:PUBLISH
BEGIN:VEVENT
UID:20260421T115927UTC-5029Ig6vZf@https://santquirzesafaja.cat/
DTSTAMP:20260421T115927Z
DESCRIPTION: https://santquirzesafaja.cat/actualitat/agenda/activitat/224-x
 errada-i-taller-tennis-taula-i-parkinson
DTSTART:20250927T073000Z
DTEND:20251104T125900Z
LOCATION:Centre Cívic Parc de l'Aigua (Parc De L'Aigua\, Carrer del Passant
  de Caldes\, 10\, 08189 Sant Quirze Safaja\, Barcelona\, Espanya)
SUMMARY:Xerrada i Taller tennis taula i Parkinson
URL:https://santquirzesafaja.cat/actualitat/agenda/activitat/224-xerrada-i-
 taller-tennis-taula-i-parkinson
END:VEVENT
END:VCALENDAR
