BEGIN:VCALENDAR
VERSION:2.0
PRODID:-//https://santquirzesafaja.cat///NONSGML kigkonsult.se iCalcreator 2.10.15//
METHOD:PUBLISH
BEGIN:VEVENT
UID:20260421T115710UTC-1312PIIGZP@https://santquirzesafaja.cat/
DTSTAMP:20260421T115710Z
DESCRIPTION:Divendres 1 d’agost19:00 h PREGÓ a càrrec de Mireia Andilla sot
 sdirectora del centre CRAE de Puigdolena ens farà un pas per la història i
  funcionalitat del centre amb una sorpresa final. Vine a conèixer aquest e
 spai emblemàtic del nostre municipi. SAFARRALloc: Parc de l’Aigua.22:30 h 
 Vine a prendre alguna cosa abans del concert!23:30 h Concert de versions a
 mb MIOPS. El grup moianes MIOPS inaugurarà el Safarra d’enguany fent balla
 r a tothom amb les millors versions.\n2:00 h Dj Carrera ens tancarà la nit
  de disbauxa.Organitza: ENCINGLATS.Dissabte 2 d'agost11:00 h LÀSER TAG Llo
 c: Camp de Futbol de Pinars del Badó. Vine a gaudir d’aquesta activitat pe
 r tota la família. T’agrada l’acció? Crea el teu equip i sigues el supervi
 vent d’aquest repte de làser tag amb obstacles.21:00 h SOPAR DE FESTA MAJO
 RLloc: Centre Cívic Parc de l’Aigua.Fem del sopar de Festa Major una posad
 a de blanc. Us convidem a venir vestits de blanc per gaudir del sopar i de
 ls grups que ens amenitzaran la nit. Aquest any el restaurant “LA MASIA” e
 s farà càrrec del sopar. (Primer a compartir i segon a triar entre peix o 
 carn)Reserva el teu lloc trucant a l’Ajuntament Preu: 25 € adults\, 15 € n
 ens. Específica si tens alguna intolerància.Aquest any gaudirem de la comp
 anyia de:22:00 h Amàlia & Co. Cantant de gòspel acompanyada al piano per G
 ustavo\, productor musical i director de gòspel. 23:30 h Abbeys Beat grup 
 musical de Sant Quirze seguiran la vetllada amb versions d’ara i de sempre
 . 1:30 h Dj Dani farà el tancament de la nit amb música de tots els temps.
 Diumenge 3 d'agost11:00 h TOBOGAN D’AIGUA Lloc: URB. Les Clotes. Diversió 
 i disbauxa amb un tobogan d’aigua de 70 M per refrescar-nos. Vine a gaudir
  de l’estiu. Patrocina: AGBAR17:00 h TARDA D’INFLABLES. Lloc: Parc de l’Ai
 gua. Tobogan sky/ Botty motos/ Atletisme. Gaudeix del làser tag amb obstac
 les.18:00 h GIMCANA. Lloc: Parc de l’Aigua. Descobreix racons i curiositat
 s del nostre entorn i el nostre poble. Organitza: ENCINGLATS.Berenar per t
 othom durant les activitats!!21:30 h CONCERT CANDLE LIGHT Lloc: Plaça de l
 ’església. Vine a gaudir d’aquesta nit màgica amb el piano de JESÚS ENRIQU
 E GARCÍA GÓMEZ. Jove músic hispanoamericà amb gran recorregut artístic. En
 s farà gaudir d’una màgica nit a la llum de les espelmes. Dilluns 4 d'agos
 t8:00 h DESCOBREIX CAMINS!! SORTIDA I ARRIBADA: Parc de l’Aigua. Vols conè
 ixer camins que uneixen les nostres urbanitzacions? Aquest any el Grup Exc
 ursionista Sant Quirze Safaja ens guiarà per aquest recorregut d’uns 10 km
  (Durada aprox. 4 h) Apte per tots els públics. Descobreix i gaudeix del n
 ostre entorn. 11:00 h JOCS DE CUCANYA Lloc: Parc de l’Aigua. Mentre entret
 indrem al jovent amb jocs de cucanya. Prepara el teu equip i vine a divert
 ir-te per aconseguir el premi final. Curses de sacs\, mocador\, estirar la
  corda\, rescata objectes a l’aigua\, trasbassament d’aigua...13:00 h TAST
 ET DE TRUITES DE PATATES Lloc: Parc de l’Aigua. Creus que fas una truita d
 e patates espectacular? Vine i demostra-ho. (Apunta’t a l’Ajuntament i us 
 donarem les instruccions)I per tancar la Festa VERMUT PER TOTHOM!! https:/
 /santquirzesafaja.cat/actualitat/agenda/activitat/223-festa-major-2025
DTSTART:20250801T165000Z
DTEND:20250804T130000Z
LOCATION:Sant Quirze Safaja (Sant Quirze Safaja\, Barcelona\, Espanya)
SUMMARY:FESTA MAJOR 2025
URL:https://santquirzesafaja.cat/actualitat/agenda/activitat/223-festa-majo
 r-2025
END:VEVENT
END:VCALENDAR
