BEGIN:VCALENDAR
VERSION:2.0
PRODID:-//https://santquirzesafaja.cat///NONSGML kigkonsult.se iCalcreator 2.10.15//
METHOD:PUBLISH
BEGIN:VEVENT
UID:20260421T115900UTC-91899RUspj@https://santquirzesafaja.cat/
DTSTAMP:20260421T115900Z
DESCRIPTION: https://santquirzesafaja.cat/actualitat/agenda/activitat/222-r
 evetlla-de-sant-joan-2025
DTSTART:20250623T160200Z
DTEND:20250624T010000Z
LOCATION:Centre Cívic Parc de l'Aigua (Parc De L'Aigua\, Carrer del Passant
  de Caldes\, 10\, 08189 Sant Quirze Safaja\, Barcelona\, Espanya)
SUMMARY:Revetlla de Sant Joan 2025
URL:https://santquirzesafaja.cat/actualitat/agenda/activitat/222-revetlla-d
 e-sant-joan-2025
END:VEVENT
END:VCALENDAR
