BEGIN:VCALENDAR
VERSION:2.0
PRODID:-//https://santquirzesafaja.cat///NONSGML kigkonsult.se iCalcreator 2.10.15//
METHOD:PUBLISH
BEGIN:VEVENT
UID:20260421T120315UTC-5663bUNwW9@https://santquirzesafaja.cat/
DTSTAMP:20260421T120315Z
DESCRIPTION:12: 00 h Missa de patrons a l'església.\n14:00 h Dinar popular 
 al Parc de l'aigua.Menú: Pica-pica\, arrossada i postres (Adults 15 €\, ne
 ns 13 €)Menú i dues butlletes per sorteig d'un pernil de gla ibèric\, 18 €
 .\n18:00 h Berenar popular a la plaça de l'església.\n18:30 h Tastet d'Art
  dels patrons Sant Quirze i Santa Julita (església).\nReserves a l'Ajuntam
 ent. Especificar dinar\, tastet o les dues coses. https://santquirzesafaja
 .cat/actualitat/agenda/activitat/221-festa-municipal-dels-patrons-sant-qui
 rze-i-santa-julita
DTSTART:20250616T100000Z
DTEND:20250616T174500Z
LOCATION:08189 Sant Quirze  (08189 Sant Quirze Safaja)
SUMMARY:Festa municipal dels Patrons Sant Quirze i Santa Julita
URL:https://santquirzesafaja.cat/actualitat/agenda/activitat/221-festa-muni
 cipal-dels-patrons-sant-quirze-i-santa-julita
END:VEVENT
END:VCALENDAR
