BEGIN:VCALENDAR
VERSION:2.0
PRODID:-//https://santquirzesafaja.cat///NONSGML kigkonsult.se iCalcreator 2.10.15//
METHOD:PUBLISH
BEGIN:VEVENT
UID:20260421T115844UTC-3242dWdVLM@https://santquirzesafaja.cat/
DTSTAMP:20260421T115844Z
DESCRIPTION: https://santquirzesafaja.cat/actualitat/agenda/activitat/220-f
 ira-sant-jordi-2025
DTSTART:20250413T080000Z
DTEND:20250413T140000Z
LOCATION:Parc de l'Aigua\, Sant Quirze Safaja (Carrer del Passant de Caldes
 \, 10\, 08189 Sant Quirze Safaja\, Barcelona\, España)
SUMMARY:Fira Sant Jordi 2025
URL:https://santquirzesafaja.cat/actualitat/agenda/activitat/220-fira-sant-
 jordi-2025
END:VEVENT
END:VCALENDAR
