BEGIN:VCALENDAR
VERSION:2.0
PRODID:-//https://santquirzesafaja.cat///NONSGML kigkonsult.se iCalcreator 2.10.15//
METHOD:PUBLISH
BEGIN:VEVENT
UID:20260421T115632UTC-2796fSa5O2@https://santquirzesafaja.cat/
DTSTAMP:20260421T115632Z
DESCRIPTION: https://santquirzesafaja.cat/actualitat/agenda/activitat/219-x
 -concurs-literari-marius-torras
DTSTART:20250401T070000Z
DTEND:20250410T215900Z
LOCATION:Sant Quirze Safaja (Sant Quirze Safaja\, Barcelona\, Espanya)
SUMMARY:X Concurs literari Marius Torras
URL:https://santquirzesafaja.cat/actualitat/agenda/activitat/219-x-concurs-
 literari-marius-torras
END:VEVENT
END:VCALENDAR
