BEGIN:VCALENDAR
VERSION:2.0
PRODID:-//https://santquirzesafaja.cat///NONSGML kigkonsult.se iCalcreator 2.10.15//
METHOD:PUBLISH
BEGIN:VEVENT
UID:20260421T115736UTC-0139pBpbJS@https://santquirzesafaja.cat/
DTSTAMP:20260421T115736Z
DESCRIPTION: https://santquirzesafaja.cat/actualitat/agenda/activitat/218-t
 robada-tennis-taula-día-de-la-dona
DTSTART:20250308T083000Z
DTEND:20250308T123000Z
LOCATION:Moià\, Barcelona (Moià\, Barcelona)
SUMMARY:Trobada tennis Taula día de la Dona
URL:https://santquirzesafaja.cat/actualitat/agenda/activitat/218-trobada-te
 nnis-taula-día-de-la-dona
END:VEVENT
END:VCALENDAR
