BEGIN:VCALENDAR
VERSION:2.0
PRODID:-//https://santquirzesafaja.cat///NONSGML kigkonsult.se iCalcreator 2.10.15//
METHOD:PUBLISH
BEGIN:VEVENT
UID:20260421T115632UTC-4640lsFixN@https://santquirzesafaja.cat/
DTSTAMP:20260421T115632Z
DESCRIPTION: https://santquirzesafaja.cat/actualitat/agenda/activitat/217-p
 resentació-detalls-de-projectes-2024-2025
DTSTART:20250322T100000Z
DTEND:20250322T123000Z
LOCATION:Ajuntament Sant Quirze Safaja (08189 Sant Quirze Safaja\, Barcelon
 a\, Espanya)
SUMMARY:Presentació detalls de projectes 2024-2025
URL:https://santquirzesafaja.cat/actualitat/agenda/activitat/217-presentaci
 ó-detalls-de-projectes-2024-2025
END:VEVENT
END:VCALENDAR
