BEGIN:VCALENDAR
VERSION:2.0
PRODID:-//https://santquirzesafaja.cat///NONSGML kigkonsult.se iCalcreator 2.10.15//
METHOD:PUBLISH
BEGIN:VEVENT
UID:20260421T120414UTC-2303kLHUKO@https://santquirzesafaja.cat/
DTSTAMP:20260421T120414Z
DESCRIPTION:El tenis taula és un esport de poc impacte i moviment controlat
  en un espai reduït i delimitat\, el que permet la pràctica activa a gent 
 de tota condició física\, sexe i edat. És a més una activitat complexa que
  estimula el cervell i afavoreix la mobilitat i la coordinació\, a part de
  tots els beneficis associats a l'activitat física. No tots els dies tenim
  l'oportunitat de comptar amb una persona que va practicar aquest esport a
 l més alt nivell\, i que va portar durant 11 anys la selecció nacional de 
 Tenis Taula de Cuba i que el pròxim dia 21 de setembre ens donarà dues ses
 sions d'iniciació a aquest esport\, especialment dirigides a dones. Si ten
 iu curiositat\, no dubteu a posar-vos en contacte amb nosaltres!!!https://
 forms.gle/vr5n9s3b1svyB5pd8 https://santquirzesafaja.cat/actualitat/agenda
 /activitat/215-dona-i-esport-iniciació-al-tenis-taula-2
DTSTART:20241109T090000Z
DTEND:20241109T130000Z
LOCATION:Centre Civic Parc de l'Aigua\, Sant Quirze Safaja (Carrer del Pass
 ant de Caldes\, 10\, 08189 Sant Quirze Safaja\, Barcelona\, España)
SUMMARY:Dona i esport - iniciació al tenis taula [2].
URL:https://santquirzesafaja.cat/actualitat/agenda/activitat/215-dona-i-esp
 ort-iniciació-al-tenis-taula-2
END:VEVENT
END:VCALENDAR
