BEGIN:VCALENDAR
VERSION:2.0
PRODID:-//https://santquirzesafaja.cat///NONSGML kigkonsult.se iCalcreator 2.10.15//
METHOD:PUBLISH
BEGIN:VEVENT
UID:20260421T120405UTC-76305Apca7@https://santquirzesafaja.cat/
DTSTAMP:20260421T120405Z
DESCRIPTION:L'activitat del tastet de Belcanto ha passat a divendres 30.\n
 \n\n https://santquirzesafaja.cat/actualitat/agenda/activitat/214-tastets-
 d-art-estiu-2024
DTSTART:20240817T183000Z
DTEND:20240831T210000Z
LOCATION:Centre Civic Parc de l'Aigua\, Sant Quirze Safaja (Carrer del Pass
 ant de Caldes\, 10\, 08189 Sant Quirze Safaja\, Barcelona\, España)
SUMMARY:Tastets d'Art estiu 2024
URL:https://santquirzesafaja.cat/actualitat/agenda/activitat/214-tastets-d-
 art-estiu-2024
END:VEVENT
END:VCALENDAR
