BEGIN:VCALENDAR
VERSION:2.0
PRODID:-//https://santquirzesafaja.cat///NONSGML kigkonsult.se iCalcreator 2.10.15//
METHOD:PUBLISH
BEGIN:VEVENT
UID:20260421T120526UTC-3663hmt7v4@https://santquirzesafaja.cat/
DTSTAMP:20260421T120526Z
DESCRIPTION:\n\n\n \n\n\n\n\n\n\n\n\n \n  https://santquirzesafaja.cat/actu
 alitat/agenda/activitat/213-festa-major-sqs-2024
DTSTART:20240802T180000Z
DTEND:20240805T123000Z
LOCATION:Sant Quirze Safaja (Sant Quirze Safaja\, Barcelona\, Espanya)
SUMMARY:FESTA MAJOR SQS 2024
URL:https://santquirzesafaja.cat/actualitat/agenda/activitat/213-festa-majo
 r-sqs-2024
END:VEVENT
END:VCALENDAR
