BEGIN:VCALENDAR
VERSION:2.0
PRODID:-//https://santquirzesafaja.cat///NONSGML kigkonsult.se iCalcreator 2.10.15//
METHOD:PUBLISH
BEGIN:VEVENT
UID:20260421T115900UTC-4861eixSvg@https://santquirzesafaja.cat/
DTSTAMP:20260421T115900Z
DESCRIPTION:El pròxim dissabte 27 de juliol\, paral·lelament a la pedalada 
 nocturna organitzada per Camaleonix\, tindrem música en directe i l'últim 
 dels sopars amb música d'aquest mes de juliol. \nA partir de les 20:00\, m
 úsica ambient al parc\, servei de barra i hamburgueses per el que vulgui s
 opar.\nA les 22:30\, concert amb el grup La Freak.\nUs esperem!!!\n  https
 ://santquirzesafaja.cat/actualitat/agenda/activitat/211-concert-i-sopar-la
 -camaleònica
DTSTART:20240727T180000Z
DTEND:20240727T230000Z
LOCATION:Parc de l'Aigua\, Sant Quirze Safaja (Carrer del Passant de Caldes
 \, 10\, 08189 Sant Quirze Safaja\, Barcelona\, España)
SUMMARY:Concert i sopar / La Camaleònica
URL:https://santquirzesafaja.cat/actualitat/agenda/activitat/211-concert-i-
 sopar-la-camaleònica
END:VEVENT
END:VCALENDAR
