BEGIN:VCALENDAR
VERSION:2.0
PRODID:-//https://santquirzesafaja.cat///NONSGML kigkonsult.se iCalcreator 2.10.15//
METHOD:PUBLISH
BEGIN:VEVENT
UID:20260421T134419UTC-1565EmpDnK@https://santquirzesafaja.cat/
DTSTAMP:20260421T134419Z
DESCRIPTION:SESSIONS DE IOGA GRATUÏTES A SQS\nDilluns a les 19:00 h tarda\n
 Divendres a les 9h matí\nAl Parc de L’Aigua de Sant Quirze Safaja.\nSessio
 ns obertes del 1 de juliol al 9 d’agost.\n· Podeu venir sense inscripció p
 rèvia els dies que més us convinguin.\n· Cadascú s’ha de portar el materia
 l adequat per a fer l’activitat de ioga: esterilla\, pareo i manta o algun
 a cosa per tapar-se. https://santquirzesafaja.cat/actualitat/agenda/activi
 tat/198-ioga-a-l-estiu-al-parc-de-l-aigua
DTSTART:20240701T170000Z
DTEND:20240809T080500Z
LOCATION:Centre Civic Parc de l'Aigua\, Sant Quirze Safaja (Carrer del Pass
 ant de Caldes\, 10\, 08189 Sant Quirze Safaja\, Barcelona\, España)
SUMMARY:Ioga a l'estiu al parc de l'Aigua
URL:https://santquirzesafaja.cat/actualitat/agenda/activitat/198-ioga-a-l-e
 stiu-al-parc-de-l-aigua
END:VEVENT
END:VCALENDAR
