BEGIN:VCALENDAR
VERSION:2.0
PRODID:-//https://santquirzesafaja.cat///NONSGML kigkonsult.se iCalcreator 2.10.15//
METHOD:PUBLISH
BEGIN:VEVENT
UID:20260421T114953UTC-9256MdRzLd@https://santquirzesafaja.cat/
DTSTAMP:20260421T114953Z
DESCRIPTION:LA CAMALEÓNICA1a edició de la BTT Nocturna el pròxim 27 de juli
 ol. Inscripcions en línia a www.camaleonix.com. 20 euros. Obligatori GPS i
  Llums per una cursa 70% pista i 30% corriols.Organitzen: Camaleonix i Aju
 ntament de Sant Quirze SafajaCol·labora: Diputació de Barcelona. https://s
 antquirzesafaja.cat/actualitat/agenda/activitat/197-1a-btt-nocturna
DTSTART:20240727T180000Z
DTEND:20240727T203000Z
LOCATION:Sant Quirze Safaja (Plaça de l'Església)
SUMMARY:1a BTT Nocturna
URL:https://santquirzesafaja.cat/actualitat/agenda/activitat/197-1a-btt-noc
 turna
END:VEVENT
END:VCALENDAR
