BEGIN:VCALENDAR
VERSION:2.0
PRODID:-//https://santquirzesafaja.cat///NONSGML kigkonsult.se iCalcreator 2.10.15//
METHOD:PUBLISH
BEGIN:VEVENT
UID:20260421T134238UTC-2084EJM9Cx@https://santquirzesafaja.cat/
DTSTAMP:20260421T134238Z
DESCRIPTION: https://santquirzesafaja.cat/actualitat/agenda/activitat/194-7
 é-torneig-tennis-taula-sant-quirze-safaja
DTSTART:20240608T133000Z
DTEND:20240608T193000Z
LOCATION:Centre Cívic Parc de l'Aigua (Parc De L'Aigua\, Carrer del Passant
  de Caldes\, 10\, 08189 Sant Quirze Safaja\, Barcelona\, Espanya)
SUMMARY:7é Torneig tennis Taula Sant Quirze Safaja
URL:https://santquirzesafaja.cat/actualitat/agenda/activitat/194-7é-torneig
 -tennis-taula-sant-quirze-safaja
END:VEVENT
END:VCALENDAR
