BEGIN:VCALENDAR
VERSION:2.0
PRODID:-//https://santquirzesafaja.cat///NONSGML kigkonsult.se iCalcreator 2.10.15//
METHOD:PUBLISH
BEGIN:VEVENT
UID:20260421T133804UTC-2054GIXlV0@https://santquirzesafaja.cat/
DTSTAMP:20260421T133804Z
DESCRIPTION: https://santquirzesafaja.cat/actualitat/agenda/activitat/192-a
 ctivitats-esportives-taichí
DTSTART:20240403T080000Z
DTEND:20240530T080000Z
LOCATION:Centre Civic Parc de l'Aigua\, Sant Quirze Safaja (Carrer del Pass
 ant de Caldes\, 10\, 08189 Sant Quirze Safaja\, Barcelona\, España)
SUMMARY:Activitats esportives - Taichí
URL:https://santquirzesafaja.cat/actualitat/agenda/activitat/192-activitats
 -esportives-taichí
END:VEVENT
END:VCALENDAR
