BEGIN:VCALENDAR
VERSION:2.0
PRODID:-//https://santquirzesafaja.cat///NONSGML kigkonsult.se iCalcreator 2.10.15//
METHOD:PUBLISH
BEGIN:VEVENT
UID:20260421T145643UTC-8250WnFwxL@https://santquirzesafaja.cat/
DTSTAMP:20260421T145643Z
DESCRIPTION: https://santquirzesafaja.cat/actualitat/agenda/activitat/191-a
 prodemat
DTSTART:20230301T160000Z
DTEND:20230301T173000Z
LOCATION:Ajuntament Sant Quirze Safaja (08189 Sant Quirze Safaja\, Barcelon
 a\, Espanya)
SUMMARY:APRODEMAT
URL:https://santquirzesafaja.cat/actualitat/agenda/activitat/191-aprodemat
END:VEVENT
END:VCALENDAR
