BEGIN:VCALENDAR
VERSION:2.0
PRODID:-//https://santquirzesafaja.cat///NONSGML kigkonsult.se iCalcreator 2.10.15//
METHOD:PUBLISH
BEGIN:VEVENT
UID:20260421T134337UTC-2970OCAM5v@https://santquirzesafaja.cat/
DTSTAMP:20260421T134337Z
DESCRIPTION:El proper dissabte 20 de gener\, doble activitat de tenis taula
  a Sant Quirze Safaja.\nAl matí de 10:30 a 12 jornada de portes obertes pe
 r tots el veïns de Sant Quirze Safaja\, per fer un tastet de aquest esport
  i passar una bona estona. Activitat esportiva gratuïta. Es recomanable ro
 ba d’esport i venir per parelles :-).\nA la tarda\, enfrontament amistós e
 ntre un combinat de jugadors de la comunitat xinesa de les comarques veïne
 s i jugadors dels Tennis Taula Intercomarcal d’Osona. Obert al públic.\nOr
 ganitza el Club Tennis Taula Sant Quirze Safaja. Col·laboren l’Ajuntament 
 de Sant Quirze Safaja i la Diputació de Barcelona.\n \n https://santquirze
 safaja.cat/actualitat/agenda/activitat/182-matinal-tennis-taula-a-sant-qui
 rze-safaja
DTSTART:20240120T093000Z
DTEND:20240120T110000Z
LOCATION:Centre Civic Parc de l'Aigua\, Sant Quirze Safaja (Carrer del Pass
 ant de Caldes\, 10\, 08189 Sant Quirze Safaja\, Barcelona\, España)
SUMMARY:Matinal Tennis Taula a Sant Quirze Safaja
URL:https://santquirzesafaja.cat/actualitat/agenda/activitat/182-matinal-te
 nnis-taula-a-sant-quirze-safaja
END:VEVENT
END:VCALENDAR
