BEGIN:VCALENDAR
VERSION:2.0
PRODID:-//https://santquirzesafaja.cat///NONSGML kigkonsult.se iCalcreator 2.10.15//
METHOD:PUBLISH
BEGIN:VEVENT
UID:20260421T134331UTC-41591bFuOG@https://santquirzesafaja.cat/
DTSTAMP:20260421T134331Z
DESCRIPTION: https://santquirzesafaja.cat/actualitat/agenda/activitat/168-a
 ctivitats-esportives-sessions-d-esport-saludable
DTSTART:20240110T184500Z
DTEND:20240629T190000Z
LOCATION:Centre Civic Parc de l'Aigua\, Sant Quirze Safaja (Carrer del Pass
 ant de Caldes\, 10\, 08189 Sant Quirze Safaja\, Barcelona\, España)
SUMMARY:Activitats esportives - Sessions d'esport Saludable
URL:https://santquirzesafaja.cat/actualitat/agenda/activitat/168-activitats
 -esportives-sessions-d-esport-saludable
END:VEVENT
END:VCALENDAR
