BEGIN:VCALENDAR
VERSION:2.0
PRODID:-//https://santquirzesafaja.cat///NONSGML kigkonsult.se iCalcreator 2.10.15//
METHOD:PUBLISH
BEGIN:VEVENT
UID:20260421T134419UTC-1468dTDamN@https://santquirzesafaja.cat/
DTSTAMP:20260421T134419Z
DESCRIPTION: https://santquirzesafaja.cat/actualitat/agenda/activitat/167-a
 ctivitats-esportives-tennis-taula
DTSTART:20240110T170000Z
DTEND:20240629T171500Z
LOCATION:Centre Cívic Parc de l'Aigua (Parc De L'Aigua\, Carrer del Passant
  de Caldes\, 10\, 08189 Sant Quirze Safaja\, Barcelona\, Espanya)
SUMMARY:Activitats esportives - Tennis Taula
URL:https://santquirzesafaja.cat/actualitat/agenda/activitat/167-activitats
 -esportives-tennis-taula
END:VEVENT
END:VCALENDAR
