BEGIN:VCALENDAR
VERSION:2.0
PRODID:-//https://santquirzesafaja.cat///NONSGML kigkonsult.se iCalcreator 2.10.15//
METHOD:PUBLISH
BEGIN:VEVENT
UID:20260421T134314UTC-9034RuJGAc@https://santquirzesafaja.cat/
DTSTAMP:20260421T134314Z
DESCRIPTION: https://santquirzesafaja.cat/actualitat/agenda/activitat/166-c
 aminades-per-gent-gran
DTSTART:20230929T070000Z
DTEND:20230929T103000Z
LOCATION:Moianès ()
SUMMARY:Caminades per gent gran
URL:https://santquirzesafaja.cat/actualitat/agenda/activitat/166-caminades-
 per-gent-gran
END:VEVENT
END:VCALENDAR
