BEGIN:VCALENDAR
VERSION:2.0
PRODID:-//https://santquirzesafaja.cat///NONSGML kigkonsult.se iCalcreator 2.10.15//
METHOD:PUBLISH
BEGIN:VEVENT
UID:20260421T134724UTC-5327pxgwWC@https://santquirzesafaja.cat/
DTSTAMP:20260421T134724Z
DESCRIPTION: https://santquirzesafaja.cat/actualitat/agenda/activitat/165-j
 ornada-participativa-per-proposar-activitats-culturals\,-esportives-i-de-l
 leure
DTSTART:20230915T170000Z
DTEND:20230915T183000Z
LOCATION:Centre Cívic Parc de l'Aigua (Parc De L'Aigua\, Carrer del Passant
  de Caldes\, 10\, 08189 Sant Quirze Safaja\, Barcelona\, Espanya)
SUMMARY:Jornada participativa per proposar activitats culturals\, esportive
 s i de Lleure
URL:https://santquirzesafaja.cat/actualitat/agenda/activitat/165-jornada-pa
 rticipativa-per-proposar-activitats-culturals,-esportives-i-de-lleure
END:VEVENT
END:VCALENDAR
