BEGIN:VCALENDAR
VERSION:2.0
PRODID:-//https://santquirzesafaja.cat///NONSGML kigkonsult.se iCalcreator 2.10.15//
METHOD:PUBLISH
BEGIN:VEVENT
UID:20260421T133944UTC-6659tNvK4U@https://santquirzesafaja.cat/
DTSTAMP:20260421T133944Z
DESCRIPTION: https://santquirzesafaja.cat/actualitat/agenda/activitat/161-f
 ormació-inicial-suport-vital-bàsic-i-ús-del-dea
DTSTART:20231021T070000Z
DTEND:20231021T130000Z
LOCATION:Centre Cívic Parc de l'Aigua (Parc De L'Aigua\, Carrer del Passant
  de Caldes\, 10\, 08189 Sant Quirze Safaja\, Barcelona\, Espanya)
SUMMARY:FORMACIÓ INICIAL SUPORT VITAL BÀSIC I ÚS DEL DEA
URL:https://santquirzesafaja.cat/actualitat/agenda/activitat/161-formació-i
 nicial-suport-vital-bàsic-i-ús-del-dea
END:VEVENT
END:VCALENDAR
