BEGIN:VCALENDAR
VERSION:2.0
PRODID:-//https://santquirzesafaja.cat///NONSGML kigkonsult.se iCalcreator 2.10.15//
METHOD:PUBLISH
BEGIN:VEVENT
UID:20260421T134446UTC-2689Dn8UMV@https://santquirzesafaja.cat/
DTSTAMP:20260421T134446Z
DESCRIPTION: https://santquirzesafaja.cat/actualitat/agenda/activitat/156-t
 robada-tennis-taula-aficionats-xina-osona
DTSTART:20230826T073000Z
DTEND:20230826T193000Z
LOCATION:Centre Cívic Parc de l'Aigua (Parc De L'Aigua\, Carrer del Passant
  de Caldes\, 10\, 08189 Sant Quirze Safaja\, Barcelona\, Espanya)
SUMMARY:Trobada Tennis Taula aficionats Xina - Osona
URL:https://santquirzesafaja.cat/actualitat/agenda/activitat/156-trobada-te
 nnis-taula-aficionats-xina-osona
END:VEVENT
END:VCALENDAR
