BEGIN:VCALENDAR
VERSION:2.0
PRODID:-//https://santquirzesafaja.cat///NONSGML kigkonsult.se iCalcreator 2.10.15//
METHOD:PUBLISH
BEGIN:VEVENT
UID:20260421T133550UTC-7686zAU1e8@https://santquirzesafaja.cat/
DTSTAMP:20260421T133550Z
DESCRIPTION: https://santquirzesafaja.cat/actualitat/agenda/activitat/152-s
 esions-gratuites-de-ioga-a-sant-quirze-safaja
DTSTART:20230703T173000Z
DTEND:20230814T073900Z
LOCATION:Centre Cívic Parc de l'Aigua (Parc De L'Aigua\, Carrer del Passant
  de Caldes\, 10\, 08189 Sant Quirze Safaja\, Barcelona\, Espanya)
SUMMARY:Sesions gratuites de IOGA a Sant Quirze Safaja
URL:https://santquirzesafaja.cat/actualitat/agenda/activitat/152-sesions-gr
 atuites-de-ioga-a-sant-quirze-safaja
END:VEVENT
END:VCALENDAR
