BEGIN:VCALENDAR
VERSION:2.0
PRODID:-//https://santquirzesafaja.cat///NONSGML kigkonsult.se iCalcreator 2.10.15//
METHOD:PUBLISH
BEGIN:VEVENT
UID:20260421T133850UTC-7100tVbw9R@https://santquirzesafaja.cat/
DTSTAMP:20260421T133850Z
DESCRIPTION:El Club tennis taula Sant Quirze Safaja ens ofereix aquesta act
 ivitat aquest estiu. La activitat NO es dirigida. Ideal venir amb companya
  i disposats a pasar una bona estona. https://santquirzesafaja.cat/actuali
 tat/agenda/activitat/151-tennis-taula-estiu-2023
DTSTART:20230703T173000Z
DTEND:20230731T193000Z
LOCATION:Centre Cívic Parc de l'Aigua (Parc De L'Aigua\, Carrer del Passant
  de Caldes\, 10\, 08189 Sant Quirze Safaja\, Barcelona\, Espanya)
SUMMARY:Tennis Taula estiu 2023
URL:https://santquirzesafaja.cat/actualitat/agenda/activitat/151-tennis-tau
 la-estiu-2023
END:VEVENT
END:VCALENDAR
