BEGIN:VCALENDAR
VERSION:2.0
PRODID:-//https://santquirzesafaja.cat///NONSGML kigkonsult.se iCalcreator 2.10.15//
METHOD:PUBLISH
BEGIN:VEVENT
UID:20260421T173644UTC-3469FcsSI4@https://santquirzesafaja.cat/
DTSTAMP:20260421T173644Z
DESCRIPTION: https://santquirzesafaja.cat/actualitat/agenda/activitat/150-t
 allers-d-estiu-a-sant-quirze-safaja
DTSTART:20230702T051400Z
DTEND:20230731T071400Z
LOCATION:Centre Cívic Parc de l'Aigua (Parc De L'Aigua\, Carrer del Passant
  de Caldes\, 10\, 08189 Sant Quirze Safaja\, Barcelona\, Espanya)
SUMMARY:Tallers d'estiu a Sant Quirze Safaja
URL:https://santquirzesafaja.cat/actualitat/agenda/activitat/150-tallers-d-
 estiu-a-sant-quirze-safaja
END:VEVENT
END:VCALENDAR
