BEGIN:VCALENDAR
VERSION:2.0
PRODID:-//https://santquirzesafaja.cat///NONSGML kigkonsult.se iCalcreator 2.10.15//
METHOD:PUBLISH
BEGIN:VEVENT
UID:20260421T133944UTC-6870fAGZh9@https://santquirzesafaja.cat/
DTSTAMP:20260421T133944Z
DESCRIPTION:Continuem amb l'estiu de música i gastronomía al nostre municip
 i amb la tercera trobada d'aquesta activitat. Us esperem! https://santquir
 zesafaja.cat/actualitat/agenda/activitat/145-sopars-amb-música-a-sant-quir
 ze-safaja
DTSTART:20230708T190000Z
DTEND:20230729T215900Z
LOCATION:Sant Quirze Safaja (Sant Quirze Safaja\, Barcelona\, Espanya)
SUMMARY:Sopars amb música a Sant Quirze Safaja
URL:https://santquirzesafaja.cat/actualitat/agenda/activitat/145-sopars-amb
 -música-a-sant-quirze-safaja
END:VEVENT
END:VCALENDAR
